BEGIN:VCALENDAR
VERSION:2.0
PRODID:-//ShiftKey Labs - ECPv6.3.5//NONSGML v1.0//EN
CALSCALE:GREGORIAN
METHOD:PUBLISH
X-ORIGINAL-URL:https://shiftkeylabs.ca
X-WR-CALDESC:Events for ShiftKey Labs
REFRESH-INTERVAL;VALUE=DURATION:PT1H
X-Robots-Tag:noindex
X-PUBLISHED-TTL:PT1H
BEGIN:VTIMEZONE
TZID:America/Halifax
BEGIN:DAYLIGHT
TZOFFSETFROM:-0400
TZOFFSETTO:-0300
TZNAME:ADT
DTSTART:20250309T060000
END:DAYLIGHT
BEGIN:STANDARD
TZOFFSETFROM:-0300
TZOFFSETTO:-0400
TZNAME:AST
DTSTART:20251102T050000
END:STANDARD
END:VTIMEZONE
BEGIN:VEVENT
DTSTART;TZID=America/Halifax:20250312T160000
DTEND;TZID=America/Halifax:20250312T173000
DTSTAMP:20260422T053630
CREATED:20250203T184555Z
LAST-MODIFIED:20250311T124825Z
UID:100543-1741795200-1741800600@shiftkeylabs.ca
SUMMARY:Industry Showcase: Avanade
DESCRIPTION:Join us for an Industry Showcase with Avanade\, a Microsoft Global SI Partner\, to explore cutting-edge technology trends and career opportunities in cloud computing\, AI\, and DevOps. This is your chance to connect with Avanade professionals\, gain insights into the future of tech\, and learn about internships and full-time roles available to students. \nAbout the session: \nAvanade experts will share their experiences in GenAI\, cloud-based data solutions\, DevOps\, and full-stack development\, giving you a first-hand look at the exciting projects shaping the industry. \nKey takeaways from the session: \n\nNetwork with Avanade staff\nFind out more about Avanade\, a Microsoft Global SI Partner\nLearn about upcoming opportunities at Avanade\n\nAbout the Speakers: \n \nLimysh Kalapala – Data Engineer\, Avanade \nLimysh is a Data Engineer working on GenAI projects and cloud-based data solutions at Avanade. With Azure and AWS certifications and expertise in Java\, Spring Boot\, and Python\, he brings a strong technical background. Limysh holds a Master of Applied Computer Science from Dalhousie University and has over a year of experience at Avanade\, where he leads knowledge-sharing sessions and is co-developing a learning roadmap to empower colleagues in GenAI and emerging technologies. \n \nJenna Cogswell – Analyst Full Stack Developer\, Avanade \nJenna is an Analyst Full Stack Developer at Avanade Engineering Hubs\, where she has been working full-time since August 2024 after completing a summer internship in 2023. She holds a Bachelor’s degree in Computer Science from Dalhousie University and has worked on a Microsoft project improving ETL processes. Jenna has experience in Cloud Computing\, Web Development\, and Software Development\, and as a former TA at Dalhousie\, she applies her problem-solving and communication skills in her role. \n \nCornell Skyers – Manager & City Lead\, Avanade Halifax Engineering Hub \nCornell is a Manager and City Lead at Avanade’s Halifax Engineering Hub with a passion for DevOps\, artificial intelligence\, and cloud computing. He has worked as a consultant and application developer for major Canadian banking organizations. Cornell is also an instructor at St. Mary’s University\, where he teaches DevOps theory\, advocating for how DevOps can build confidence in code\, improve collaboration\, and create positive cultural change in the IT industry. \n📅 Date: March 12th\, 2025\n⏰ Time: 4:00PM-5:30PM\n📌 Location: The Goldberg Computer Science Building Room 430\n🔗 Registration Link: https://bit.ly/41UrPzP
URL:https://shiftkeylabs.ca/event/industry-showcase-avanade
LOCATION:Goldberg Computer Science Building\, 6050 University Avenue\, Halifax\, Nova Scotia\, B3H 1W5\, Canada
CATEGORIES:Industry Showcase,Tech Talks
ATTACH;FMTTYPE=image/png:https://shiftkeylabs.ca/wp-content/uploads/2025/02/Industry-Showcase.png
END:VEVENT
BEGIN:VEVENT
DTSTART;TZID=America/Halifax:20250312T180000
DTEND;TZID=America/Halifax:20250312T200000
DTSTAMP:20260422T053630
CREATED:20250210T151343Z
LAST-MODIFIED:20250210T180741Z
UID:100717-1741802400-1741809600@shiftkeylabs.ca
SUMMARY:Academy UP: Practical CyberSecurity (2/4)
DESCRIPTION:The Practical CyberSecurity Course by ShiftKey Academy UP\, led by Aman Bhalla\, is your gateway to the world of cybersecurity. Designed for students eager to learn the basics of ethical hacking\, threat protection\, and more! This course is open to participants from all disciplines and skill levels. \nThank you to Cognizant for supporting the ShiftKey Academy UP program\, making these courses possible. \n📅 Dates: March 5th\, 12th\, 19th\, and 26th\n⏰ Time: 6:00 PM – 8:00 PM\n📌 Location: Kenneth C. Rowe Management Building\, Room 1020\n💰 Cost: FREE! \nRegister now: https://bit.ly/4jOZdPz \n\nNote: Attendance is required for 3 sessions to earn certification\, as well as successful completion of assessment.
URL:https://shiftkeylabs.ca/event/academy-up-practical-cybersecurity-2-4
LOCATION:Rowe Management Building\, 6100 University Avenue\, Halifax\, Nova Scotia\, B3H 4R2\, Canada
CATEGORIES:Certification
ATTACH;FMTTYPE=image/png:https://shiftkeylabs.ca/wp-content/uploads/2025/02/Academy.png
END:VEVENT
END:VCALENDAR