BEGIN:VCALENDAR
VERSION:2.0
PRODID:-//ShiftKey Labs - ECPv6.3.5//NONSGML v1.0//EN
CALSCALE:GREGORIAN
METHOD:PUBLISH
X-ORIGINAL-URL:https://shiftkeylabs.ca
X-WR-CALDESC:Events for ShiftKey Labs
REFRESH-INTERVAL;VALUE=DURATION:PT1H
X-Robots-Tag:noindex
X-PUBLISHED-TTL:PT1H
BEGIN:VTIMEZONE
TZID:America/Halifax
BEGIN:DAYLIGHT
TZOFFSETFROM:-0400
TZOFFSETTO:-0300
TZNAME:ADT
DTSTART:20250309T060000
END:DAYLIGHT
BEGIN:STANDARD
TZOFFSETFROM:-0300
TZOFFSETTO:-0400
TZNAME:AST
DTSTART:20251102T050000
END:STANDARD
END:VTIMEZONE
BEGIN:VEVENT
DTSTART;TZID=America/Halifax:20250304T180000
DTEND;TZID=America/Halifax:20250304T190000
DTSTAMP:20260422T040146
CREATED:20250219T191813Z
LAST-MODIFIED:20250219T191813Z
UID:101019-1741111200-1741114800@shiftkeylabs.ca
SUMMARY:ShiftKey Lounge: Entrepreneurship
DESCRIPTION:Join us for an insightful panel where Build Founders\, alumni\, and student freelancers open up about the challenges of balancing entrepreneurship with student life. Hear firsthand experiences on juggling the demands of running a business while pursuing a degree\, the obstacles they’ve faced\, and the lessons they’ve learned along the way. This session will give you a real-world look at the ups and downs of balancing school with building something of your own. Whether you’re considering an entrepreneurial path or just curious about the realities of it\, this event will leave you inspired and ready to take on the challenge! \n📅 Date: March 4th\n⏰ Time: 6:00 PM – 7:00 PM\n📌 Location: Goldberg Computer Science Building\, Room 430\n💰 Cost: FREE! \nRegister now: https://linktr.ee/shiftkeylabs 
URL:https://shiftkeylabs.ca/event/shiftkey-lounge-entrepreneurship-03-04
LOCATION:Goldberg Computer Science Building\, 6050 University Avenue\, Halifax\, Nova Scotia\, B3H 1W5\, Canada
CATEGORIES:AMA,Info Session,Lounge,Networking,Tech Talks
ATTACH;FMTTYPE=image/png:https://shiftkeylabs.ca/wp-content/uploads/2025/02/SK-Lounge-2025.png
END:VEVENT
BEGIN:VEVENT
DTSTART;TZID=America/Halifax:20250304T180000
DTEND;TZID=America/Halifax:20250304T200000
DTSTAMP:20260422T040146
CREATED:20250124T175206Z
LAST-MODIFIED:20250214T155325Z
UID:100382-1741111200-1741118400@shiftkeylabs.ca
SUMMARY:Academy UP: Cloud Foundations (4/4)
DESCRIPTION:The Cloud Foundations Course by ShiftKey Academy UP\, led by Vansh Sood\, is your gateway to the world of cloud computing. Designed for students eager to explore AWS\, this course covers the fundamentals of cloud services\, preparing you to confidently pursue the AWS Certified Cloud Practitioner certification. Build a strong foundation in AWS concepts like compute\, storage\, and networking\, and gain the skills to navigate and utilize cloud technologies effectively. \nThis course is open to participants from all disciplines and skill levels. \nThank you to Cognizant for supporting the ShiftKey Academy UP program\, making these courses possible. \n📅 Dates: February 6th\, 20th\, 27th\, and March 4th.\n⏰ Time: 6:00 PM – 8:00 PM\n📌 Location: Goldberg Computer Science Building\, Room 134. The March 4th class will be in the Kenneth C. Rowe Management Building\, Room 1014 from 6-8pm.\n💰 Cost: FREE! \nRegister now: https://lnkd.in/eyZnKDET \n\nNote: Attendance is required for all sessions to earn certification\, as well as successful completion of assessment.
URL:https://shiftkeylabs.ca/event/academy-up-cloud-foundations-4-4
LOCATION:Rowe Management Building\, 6100 University Avenue\, Halifax\, Nova Scotia\, B3H 4R2\, Canada
CATEGORIES:Certification
ATTACH;FMTTYPE=image/png:https://shiftkeylabs.ca/wp-content/uploads/2025/01/Academy-1-1.png
END:VEVENT
END:VCALENDAR