BEGIN:VCALENDAR
VERSION:2.0
PRODID:-//ShiftKey Labs - ECPv6.3.5//NONSGML v1.0//EN
CALSCALE:GREGORIAN
METHOD:PUBLISH
X-ORIGINAL-URL:https://shiftkeylabs.ca
X-WR-CALDESC:Events for ShiftKey Labs
REFRESH-INTERVAL;VALUE=DURATION:PT1H
X-Robots-Tag:noindex
X-PUBLISHED-TTL:PT1H
BEGIN:VTIMEZONE
TZID:Asia/Kolkata
BEGIN:STANDARD
TZOFFSETFROM:+0530
TZOFFSETTO:+0530
TZNAME:IST
DTSTART:20250101T000000
END:STANDARD
TZID:America/Halifax
BEGIN:DAYLIGHT
TZOFFSETFROM:-0400
TZOFFSETTO:-0300
TZNAME:ADT
DTSTART:20250309T060000
END:DAYLIGHT
BEGIN:STANDARD
TZOFFSETFROM:-0300
TZOFFSETTO:-0400
TZNAME:AST
DTSTART:20251102T050000
END:STANDARD
END:VTIMEZONE
BEGIN:VEVENT
DTSTART;TZID=Asia/Kolkata:20250206T160000
DTEND;TZID=Asia/Kolkata:20250206T173000
DTSTAMP:20260422T064911
CREATED:20241203T001615Z
LAST-MODIFIED:20250203T170633Z
UID:100152-1738857600-1738863000@shiftkeylabs.ca
SUMMARY:Industry Showcase: Xerox Canada
DESCRIPTION:This event is geared towards students interested in tech-based business and sales positions\, particularly students in the BACS & MBI programs. \n📅 Date: February 6th\, 2025\n⏰ Time: 4:00PM-5:30PM\n📌 Location: The Goldberg Computer Science Building Room 430
URL:https://shiftkeylabs.ca/event/industry-showcase-xerox-canada
LOCATION:Goldberg Computer Science Building\, 6050 University Avenue\, Halifax\, Nova Scotia\, B3H 1W5\, Canada
CATEGORIES:Tech Talks
ATTACH;FMTTYPE=image/png:https://shiftkeylabs.ca/wp-content/uploads/2022/12/Shiftkey-Labs-Logo-01-e1487284025704-1200x515-1.png
END:VEVENT
BEGIN:VEVENT
DTSTART;TZID=America/Halifax:20250206T180000
DTEND;TZID=America/Halifax:20250206T200000
DTSTAMP:20260422T064911
CREATED:20250124T175003Z
LAST-MODIFIED:20250203T183805Z
UID:100378-1738864800-1738872000@shiftkeylabs.ca
SUMMARY:Academy UP: Cloud Foundations (1/4)
DESCRIPTION:The Cloud Foundations Course by ShiftKey Academy UP\, led by Vansh Sood\, is your gateway to the world of cloud computing. Designed for students eager to explore AWS\, this course covers the fundamentals of cloud services\, preparing you to confidently pursue the AWS Certified Cloud Practitioner certification. Build a strong foundation in AWS concepts like compute\, storage\, and networking\, and gain the skills to navigate and utilize cloud technologies effectively. \nThis course is open to participants from all disciplines and skill levels. \nThank you to Cognizant for supporting the ShiftKey Academy UP program\, making these courses possible. \n📅 Dates: February 6th\, 13th\, 20th\, and 27th\n⏰ Time: 6:00 PM – 8:00 PM\n📌 Location: Goldberg Computer Science Building\, Room 134\n💰 Cost: FREE! \nRegister now: https://lnkd.in/eyZnKDET \n\nNote: Attendance is required for all sessions to earn certification\, as well as successful completion of assessment.
URL:https://shiftkeylabs.ca/event/cloud-foundations-1-4
LOCATION:Goldberg Computer Science Building\, 6050 University Avenue\, Halifax\, Nova Scotia\, B3H 1W5\, Canada
CATEGORIES:Certification
ATTACH;FMTTYPE=image/png:https://shiftkeylabs.ca/wp-content/uploads/2025/01/Academy-1-1.png
END:VEVENT
BEGIN:VEVENT
DTSTART;TZID=America/Halifax:20250206T180000
DTEND;TZID=America/Halifax:20250224T080000
DTSTAMP:20260422T064911
CREATED:20250123T194335Z
LAST-MODIFIED:20250123T194335Z
UID:100363-1738864800-1740384000@shiftkeylabs.ca
SUMMARY:Ocean of Data: Telling Ocean Stories featuring Ocean Networks Canada
DESCRIPTION:Post-secondary students across Canada\, test your skills in the Ocean of Data Challenge! \nDeepSense\, ShiftKey Labs\, and COVE are excited to host the 11th Ocean of Data Challenge: Telling Ocean Stories\, featuring Ocean Networks Canada. \nJoin us virtually on February 6th at 6 pm AST to learn about Ocean Networks Canada and explore the vital role of science communication in making data accessible\, engaging\, and meaningful for diverse audiences. \nThe Ocean of Data Challenge invites participants to dive into data at their own pace\, showcase their skills\, and compete for cash prizes! The challenge is divided into three streams: On the Water\, In the Water\, and Around the Water. Participants will select a stream and develop a solution to transform ocean data into an impactful narrative. Each stream highlights different types of data\, inspiring creative approaches to science communication and storytelling. \nSign Up Here: https://bit.ly/4g9CRp2
URL:https://shiftkeylabs.ca/event/ocean-of-data-telling-ocean-stories-featuring-ocean-networks-canada
CATEGORIES:Virtual
ATTACH;FMTTYPE=image/png:https://shiftkeylabs.ca/wp-content/uploads/2025/01/Ocean-Crawl.png
END:VEVENT
END:VCALENDAR