BEGIN:VCALENDAR
VERSION:2.0
PRODID:-//ShiftKey Labs - ECPv6.3.5//NONSGML v1.0//EN
CALSCALE:GREGORIAN
METHOD:PUBLISH
X-ORIGINAL-URL:https://shiftkeylabs.ca
X-WR-CALDESC:Events for ShiftKey Labs
REFRESH-INTERVAL;VALUE=DURATION:PT1H
X-Robots-Tag:noindex
X-PUBLISHED-TTL:PT1H
BEGIN:VTIMEZONE
TZID:America/Halifax
BEGIN:DAYLIGHT
TZOFFSETFROM:-0400
TZOFFSETTO:-0300
TZNAME:ADT
DTSTART:20250309T060000
END:DAYLIGHT
BEGIN:STANDARD
TZOFFSETFROM:-0300
TZOFFSETTO:-0400
TZNAME:AST
DTSTART:20251102T050000
END:STANDARD
END:VTIMEZONE
BEGIN:VEVENT
DTSTART;TZID=America/Halifax:20250205T170000
DTEND;TZID=America/Halifax:20250205T203000
DTSTAMP:20260422T054857
CREATED:20241214T045448Z
LAST-MODIFIED:20250205T153018Z
UID:100231-1738774800-1738787400@shiftkeylabs.ca
SUMMARY:LeetCode Challenge
DESCRIPTION:(Now starting at 5:00 pm!) \nThe LeetCode Challenge invites students from across Nova Scotia to hone and test their coding skills\, while making valuable industry connections and learning about technical interviews. This event will take place in the Goldberg Computer Science building\, hosted in collaboration by the Faculty of Computer Science\, ShiftKey Labs and CIBC. \nThe event is scheduled to take place on February 5th\, 2025. It will start with a CIBC meet-and-greet with students over a light dinner\, followed by a presentation from Kewoba Carter on Preparing for Technical Interviews. The challenge itself will take place in the final two hours\, where participants are invited to solve as many LeetCode problems as possible\, with the chance to win great prizes. \nThis event is generously supported by CIBC. \nSign up here: https://bit.ly/shiftkey-events \n \n\n\n📅 Date: February 5th\, 2025\n⏰ Time: 5:00PM to 8:30PM\n📌 Location: The Goldberg Computer Science Building
URL:https://shiftkeylabs.ca/event/leetcode-challenge
LOCATION:Goldberg Computer Science Building\, 6050 University Avenue\, Halifax\, Nova Scotia\, B3H 1W5\, Canada
CATEGORIES:Skills Development
ATTACH;FMTTYPE=image/png:https://shiftkeylabs.ca/wp-content/uploads/2024/12/Workshop-Blue-copy.png
END:VEVENT
END:VCALENDAR