BEGIN:VCALENDAR
VERSION:2.0
PRODID:-//ShiftKey Labs - ECPv6.3.5//NONSGML v1.0//EN
CALSCALE:GREGORIAN
METHOD:PUBLISH
X-WR-CALNAME:ShiftKey Labs
X-ORIGINAL-URL:https://shiftkeylabs.ca
X-WR-CALDESC:Events for ShiftKey Labs
REFRESH-INTERVAL;VALUE=DURATION:PT1H
X-Robots-Tag:noindex
X-PUBLISHED-TTL:PT1H
BEGIN:VTIMEZONE
TZID:America/Halifax
BEGIN:DAYLIGHT
TZOFFSETFROM:-0400
TZOFFSETTO:-0300
TZNAME:ADT
DTSTART:20250309T060000
END:DAYLIGHT
BEGIN:STANDARD
TZOFFSETFROM:-0300
TZOFFSETTO:-0400
TZNAME:AST
DTSTART:20251102T050000
END:STANDARD
END:VTIMEZONE
BEGIN:VEVENT
DTSTART;TZID=America/Halifax:20250130T173000
DTEND;TZID=America/Halifax:20250130T193000
DTSTAMP:20260422T064549
CREATED:20241203T002141Z
LAST-MODIFIED:20250130T175206Z
UID:100156-1738258200-1738265400@shiftkeylabs.ca
SUMMARY:Agile/Scrum Workshop
DESCRIPTION:UPDATE: This event is now virtual due to the weather forecast for January 30th. \nOn January 30th\, come to our Scrum/Agile Workshop with Brenda Fay! In this two-hour session\, we will discuss what Agile and Scrum mean in today’s technology environment. Specifically\, we will discuss: \n\nWhat Agile means and how it can benefit you both as a student and at work\nHow Scrum works and how to use it\n\nSign up Here: linktr.ee/shiftkeylabs \n\n\n📅 Date: January 30th\, 2025\n⏰ Time: 5:30PM to 7:30PM\n📌 Location:Virtual
URL:https://shiftkeylabs.ca/event/agile-and-scrum-workshop
LOCATION:Virtual
CATEGORIES:Skills Development
ATTACH;FMTTYPE=image/png:https://shiftkeylabs.ca/wp-content/uploads/2024/12/Workshop-Green-copy.png
END:VEVENT
END:VCALENDAR