BEGIN:VCALENDAR
VERSION:2.0
PRODID:-//ShiftKey Labs - ECPv6.3.5//NONSGML v1.0//EN
CALSCALE:GREGORIAN
METHOD:PUBLISH
X-ORIGINAL-URL:https://shiftkeylabs.ca
X-WR-CALDESC:Events for ShiftKey Labs
REFRESH-INTERVAL;VALUE=DURATION:PT1H
X-Robots-Tag:noindex
X-PUBLISHED-TTL:PT1H
BEGIN:VTIMEZONE
TZID:America/Halifax
BEGIN:DAYLIGHT
TZOFFSETFROM:-0400
TZOFFSETTO:-0300
TZNAME:ADT
DTSTART:20250309T060000
END:DAYLIGHT
BEGIN:STANDARD
TZOFFSETFROM:-0300
TZOFFSETTO:-0400
TZNAME:AST
DTSTART:20251102T050000
END:STANDARD
END:VTIMEZONE
BEGIN:VEVENT
DTSTART;TZID=America/Halifax:20250129T180000
DTEND;TZID=America/Halifax:20250129T190000
DTSTAMP:20260422T064743
CREATED:20241217T043314Z
LAST-MODIFIED:20250129T175459Z
UID:100243-1738173600-1738177200@shiftkeylabs.ca
SUMMARY:Prompt Engineering
DESCRIPTION:UPDATE: This event is now virtual due to the weather forecast for January 29th.\n\nDive into the world of prompt engineering in this beginner-friendly workshop with ShiftKey’s Tobi Onibudo! We’ll explore key techniques for crafting effective prompts that shape AI responses and discuss the evolving future of this critical skill. Whether you’re new to prompt engineering or eager to learn how it’s driving advancements in AI\, this session offers the perfect introduction to techniques and trends shaping tomorrow’s AI interactions. Sign Up Here: https://lnkd.in/e3ftEFaR\n\n📅 Date: January 29th\, 2025\n⏰ Time: 6:00PM to 7:00PM\n📌 Location: Virtual
URL:https://shiftkeylabs.ca/event/prompt-engineering
LOCATION:Virtual
CATEGORIES:Skills Development
ATTACH;FMTTYPE=image/png:https://shiftkeylabs.ca/wp-content/uploads/2024/12/Workshop-Green.png
END:VEVENT
END:VCALENDAR