BEGIN:VCALENDAR
VERSION:2.0
PRODID:-//ShiftKey Labs - ECPv6.3.5//NONSGML v1.0//EN
CALSCALE:GREGORIAN
METHOD:PUBLISH
X-ORIGINAL-URL:https://shiftkeylabs.ca
X-WR-CALDESC:Events for ShiftKey Labs
REFRESH-INTERVAL;VALUE=DURATION:PT1H
X-Robots-Tag:noindex
X-PUBLISHED-TTL:PT1H
BEGIN:VTIMEZONE
TZID:America/Halifax
BEGIN:DAYLIGHT
TZOFFSETFROM:-0400
TZOFFSETTO:-0300
TZNAME:ADT
DTSTART:20250309T060000
END:DAYLIGHT
BEGIN:STANDARD
TZOFFSETFROM:-0300
TZOFFSETTO:-0400
TZNAME:AST
DTSTART:20251102T050000
END:STANDARD
END:VTIMEZONE
BEGIN:VEVENT
DTSTART;TZID=America/Halifax:20250121T170000
DTEND;TZID=America/Halifax:20250121T183000
DTSTAMP:20260422T080754
CREATED:20250115T235607Z
LAST-MODIFIED:20250116T000011Z
UID:100331-1737478800-1737484200@shiftkeylabs.ca
SUMMARY:GGJ Workshop: Figures in Motion
DESCRIPTION:In this beginner figure drawing workshop\, learn how to capture gestures\, still poses\, and movement. With step-by-step direction from Artist Sage Sidley\, participants will learn how to sketch the human form from a live figure model (in fun costumes). This workshop will help Game Jam contestants draw accurate renderings of figures for character development. \n📅 Date: January 21\, 2025\n⏰ Time: 5:00PM-6:30PM\n📌 Location: Goldberg Computer Science Building\, Room 430\n✍️ Register Here: https://bit.ly/shiftkey-events\n\nPlease note: This workshop is available to everyone\, whether they have signed up for Global Game Jam or not! If you haven’t signed up for the Jam but you want to\, follow this link: https://bit.ly/40b5QTt
URL:https://shiftkeylabs.ca/event/ggj-workshop-figures-in-motion
LOCATION:Goldberg Computer Science Building\, 6050 University Avenue\, Halifax\, Nova Scotia\, B3H 1W5\, Canada
CATEGORIES:Skills Development
ATTACH;FMTTYPE=image/png:https://shiftkeylabs.ca/wp-content/uploads/2024/11/Game-Jam-1.png
END:VEVENT
END:VCALENDAR