BEGIN:VCALENDAR
VERSION:2.0
PRODID:-//ShiftKey Labs - ECPv6.3.5//NONSGML v1.0//EN
CALSCALE:GREGORIAN
METHOD:PUBLISH
X-WR-CALNAME:ShiftKey Labs
X-ORIGINAL-URL:https://shiftkeylabs.ca
X-WR-CALDESC:Events for ShiftKey Labs
REFRESH-INTERVAL;VALUE=DURATION:PT1H
X-Robots-Tag:noindex
X-PUBLISHED-TTL:PT1H
BEGIN:VTIMEZONE
TZID:Asia/Kolkata
BEGIN:STANDARD
TZOFFSETFROM:+0530
TZOFFSETTO:+0530
TZNAME:IST
DTSTART:20250101T000000
END:STANDARD
END:VTIMEZONE
BEGIN:VEVENT
DTSTART;VALUE=DATE:20250117
DTEND;VALUE=DATE:20250120
DTSTAMP:20260422T080508
CREATED:20241207T043054Z
LAST-MODIFIED:20250117T033821Z
UID:100212-1737072000-1737331199@shiftkeylabs.ca
SUMMARY:AI and Mental Wellbeing Hackathon
DESCRIPTION:Calling all creative minds and problem-solvers! 🚀 ShiftKey Labs presents the ShiftKey GenAI Mental Wellness Hackathon\, happening January 17–19\, 2025. This three-day event invites students from across Nova Scotia and all faculties to innovate with Generative AI and develop solutions to support mental health. Explore how Generative AI can revolutionize mental health and well-being. \nThis year’s hackathon focuses on a single\, unified stream\, blending creativity\, coding\, and collaboration to design impactful solutions. Whether you’re an experienced coder or simply passionate about mental wellness\, there’s a place for you to contribute and make a difference. \n📅 Dates: January 17–19\, 2025\n📍 Location: Goldberg Computer Science Building \nWhat’s in store?\n✨ Prizes for top-performing teams.\n🎮 A chill zone with games and movies for downtime.\n🌟 Opportunities to network\, collaborate and make a difference. \nSign Up Here: Register Here \nFAQ \n\nWhat is Generative Artificial Intelligence (Gen AI)?  \n\nPopular tools such as CHAT GPT\, Jasper Chat\, Google Bard\, etc.\, are some Gen AI tools. This is a type of AI technology that can produce several types of content.  \n\n\nWho can take part in this hackathon?  \n\nThis hackathon is open to everyone regardless of their coding skill level and education background.  \n\n\nParticipants can choose from the either stream –  \n\nCreation of a tool and demonstration (coding stream)  \nPotential idea presentation and pitch (non-coding stream) \n\n\nWhy should I take part in the hackathon?  \n\nGet an opportunity to network with other participants\, experienced judges and mentors. Learn industry-based skills\, gain valuable experience and show it off on your resume. Great food during the hackathon and amazing prizes valued up to $1000 for the winners. \n\n\n\nSchedule \nFriday: \n\n\n\nTime\nProgram\nLocation/Room\n\n\n18:30\nOpen Team Formation\nOnline\n\n\n\n  \nSaturday: \n\n\n\nTime\nProgram\nLocation/Room\n\n\n09:30\nDoors open\, Coffee & Tea\nGoldberg Atrium\n\n\n10:00-11:30\nPresentation/Kick-off\nRoom 127\n\n\n12:30\nHackathon 101\nRoom 127\n\n\n13:00-14:00\nWork time + QnA\nGoldberg\n\n\n14:00-15:00\nLunch\nGoldberg Atrium\n\n\n15:00-18:30\nWork time + QnA\nGoldberg\n\n\n18:30\nSubmit Round 1\nOnline\n\n\n19:00-20:00\nDinner\nGoldberg Atrium\n\n\n20:00-21:00\nWork time\nGoldberg\n\n\n21:00-22:30\nEntertainment\nMultiple Rooms\n\n\n\n– Board Games\nRoom 134\n\n\n\n– Movies\nRoom 127\n\n\n\n– Video Games\nRoom 143\n\n\n\n  \nSunday: \n\n\n\nTime\nProgram\nLocation/Room\n\n\n09:00\nBreakfast – Coffee\, Tea\nAtrium\n\n\n09:30-13:00\nWork time\nGoldberg\n\n\n13:00\nLunch\nAtrium\n\n\n13:30- 15:30\nWork time\nGoldberg\n\n\n15:30\nFinal Submission Due\nOnline\n\n\n16:00\nPresentations\nRoom 127: CIBC Auditorium\n\n\n17:30\nJudging & Awards\nRoom 127: CIBC Auditorium\n\n\n\n  \nDon’t miss your chance to innovate for mental wellness! Mark your calendars\, gather your team\, and join us in shaping the future of mental wellness through Generative AI! \n 
URL:https://shiftkeylabs.ca/event/ai-and-mental-wellbeing-hackathon
LOCATION:Goldberg Computer Science Building\, 6050 University Avenue\, Halifax\, Nova Scotia\, B3H 1W5\, Canada
CATEGORIES:Hackathon
ATTACH;FMTTYPE=image/png:https://shiftkeylabs.ca/wp-content/uploads/2024/12/Gen-AI-Hackathon-copy.png
END:VEVENT
END:VCALENDAR