BEGIN:VCALENDAR
VERSION:2.0
PRODID:-//ShiftKey Labs - ECPv6.3.5//NONSGML v1.0//EN
CALSCALE:GREGORIAN
METHOD:PUBLISH
X-ORIGINAL-URL:https://shiftkeylabs.ca
X-WR-CALDESC:Events for ShiftKey Labs
REFRESH-INTERVAL;VALUE=DURATION:PT1H
X-Robots-Tag:noindex
X-PUBLISHED-TTL:PT1H
BEGIN:VTIMEZONE
TZID:Asia/Kolkata
BEGIN:STANDARD
TZOFFSETFROM:+0530
TZOFFSETTO:+0530
TZNAME:IST
DTSTART:20250101T000000
END:STANDARD
END:VTIMEZONE
BEGIN:VEVENT
DTSTART;TZID=Asia/Kolkata:20250110T160000
DTEND;TZID=Asia/Kolkata:20250110T173000
DTSTAMP:20260422T080648
CREATED:20241203T001409Z
LAST-MODIFIED:20250111T022923Z
UID:100148-1736524800-1736530200@shiftkeylabs.ca
SUMMARY:Industry Showcase: Ubisoft
DESCRIPTION:📅 Date: January 10\, 2025\n⏰ Time: 4:00PM-5:30PM\n📌 Location: Ubisoft Halifax
URL:https://shiftkeylabs.ca/event/industry-showcase-ubisoft
LOCATION:Ubisoft Halifax\, 1505 Barrington St #1200\, Halifax\, NS\, B3J 3K5\, Canada
CATEGORIES:Tech Talks
ATTACH;FMTTYPE=image/png:https://shiftkeylabs.ca/wp-content/uploads/2022/12/Shiftkey-Labs-Logo-01-e1487284025704-1200x515-1.png
END:VEVENT
END:VCALENDAR