BEGIN:VCALENDAR
VERSION:2.0
PRODID:-//ShiftKey Labs - ECPv6.3.5//NONSGML v1.0//EN
CALSCALE:GREGORIAN
METHOD:PUBLISH
X-WR-CALNAME:ShiftKey Labs
X-ORIGINAL-URL:https://shiftkeylabs.ca
X-WR-CALDESC:Events for ShiftKey Labs
REFRESH-INTERVAL;VALUE=DURATION:PT1H
X-Robots-Tag:noindex
X-PUBLISHED-TTL:PT1H
BEGIN:VTIMEZONE
TZID:America/Halifax
BEGIN:DAYLIGHT
TZOFFSETFROM:-0400
TZOFFSETTO:-0300
TZNAME:ADT
DTSTART:20250309T060000
END:DAYLIGHT
BEGIN:STANDARD
TZOFFSETFROM:-0300
TZOFFSETTO:-0400
TZNAME:AST
DTSTART:20251102T050000
END:STANDARD
END:VTIMEZONE
BEGIN:VEVENT
DTSTART;TZID=America/Halifax:20250106T180000
DTEND;TZID=America/Halifax:20250106T200000
DTSTAMP:20260422T080451
CREATED:20241218T232432Z
LAST-MODIFIED:20241218T233922Z
UID:100245-1736186400-1736193600@shiftkeylabs.ca
SUMMARY:Academy UP: SQL Foundations (1/4)
DESCRIPTION:Excited to share that we’re launching a new certification program in SQL in January! Led by Vishwa Patel\, this program offers you the chance to learn the basics of SQL and get hands-on experience. \nThis free certification program is offered through ShiftKey Academy Up\, generously supported by Cognizant. \n📅 Dates: January 6th\, 13th\, 20th\, and 27th\n⏰ Time: 6:00 PM – 8:00 PM\n📌 Location: Goldberg Computer Science Building\, Room 134\n💰 Cost: FREE! \nRegister now: http://bit.ly/4iIQluo \nNote: Attendance is required for all sessions to earn certification\, as well as successful completion of assessment.
URL:https://shiftkeylabs.ca/event/academy-up-sql-foundations
LOCATION:Goldberg Computer Science Building\, 6050 University Avenue\, Halifax\, Nova Scotia\, B3H 1W5\, Canada
CATEGORIES:Certification,Skills Development
ATTACH;FMTTYPE=image/png:https://shiftkeylabs.ca/wp-content/uploads/2024/12/Academy.png
END:VEVENT
END:VCALENDAR