BEGIN:VCALENDAR
VERSION:2.0
PRODID:-//ShiftKey Labs - ECPv6.3.5//NONSGML v1.0//EN
CALSCALE:GREGORIAN
METHOD:PUBLISH
X-WR-CALNAME:ShiftKey Labs
X-ORIGINAL-URL:https://shiftkeylabs.ca
X-WR-CALDESC:Events for ShiftKey Labs
REFRESH-INTERVAL;VALUE=DURATION:PT1H
X-Robots-Tag:noindex
X-PUBLISHED-TTL:PT1H
BEGIN:VTIMEZONE
TZID:America/Halifax
BEGIN:DAYLIGHT
TZOFFSETFROM:-0400
TZOFFSETTO:-0300
TZNAME:ADT
DTSTART:20240310T060000
END:DAYLIGHT
BEGIN:STANDARD
TZOFFSETFROM:-0300
TZOFFSETTO:-0400
TZNAME:AST
DTSTART:20241103T050000
END:STANDARD
END:VTIMEZONE
BEGIN:VEVENT
DTSTART;TZID=America/Halifax:20241126T180000
DTEND;TZID=America/Halifax:20241126T200000
DTSTAMP:20260422T105135
CREATED:20241011T011556Z
LAST-MODIFIED:20241016T231634Z
UID:99672-1732644000-1732651200@shiftkeylabs.ca
SUMMARY:Academy Up: DevOps Foundations Certification (4/4)
DESCRIPTION:Excited to share that we’re launching a new certification program in DevOps November! Led by Zainuddin Saiyed\, this program offers you the chance to learn the basics of DevOps and get hands-on experience. \nThis free certification program is offered through ShiftKey Academy Up\, generously supported by Cognizant. \n📅 Dates: November 5th\, 12th\, 19th\, and 26th\n⏰ Time: 6:00 PM – 8:00 PM\n📌 Location: Goldberg Computer Science Building\, Room 134\n💰 Cost: FREE! \nRegister now: https://bit.ly/4eJE3j6 \nNote: Attendance is required for all sessions to earn certification\, as well as successful completion of assessment.
URL:https://shiftkeylabs.ca/event/academy-up-devops-foundations-certification-4-4
LOCATION:Goldberg Computer Science Building\, 6050 University Avenue\, Halifax\, Nova Scotia\, B3H 1W5\, Canada
CATEGORIES:Certification,Skills Development
ATTACH;FMTTYPE=image/png:https://shiftkeylabs.ca/wp-content/uploads/2024/10/Academy-1.png
END:VEVENT
END:VCALENDAR