BEGIN:VCALENDAR
VERSION:2.0
PRODID:-//ShiftKey Labs - ECPv6.3.5//NONSGML v1.0//EN
CALSCALE:GREGORIAN
METHOD:PUBLISH
X-ORIGINAL-URL:https://shiftkeylabs.ca
X-WR-CALDESC:Events for ShiftKey Labs
REFRESH-INTERVAL;VALUE=DURATION:PT1H
X-Robots-Tag:noindex
X-PUBLISHED-TTL:PT1H
BEGIN:VTIMEZONE
TZID:Asia/Kolkata
BEGIN:STANDARD
TZOFFSETFROM:+0530
TZOFFSETTO:+0530
TZNAME:IST
DTSTART:20240101T000000
END:STANDARD
END:VTIMEZONE
BEGIN:VEVENT
DTSTART;TZID=Asia/Kolkata:20241121T160000
DTEND;TZID=Asia/Kolkata:20241121T173000
DTSTAMP:20260422T124104
CREATED:20241116T020210Z
LAST-MODIFIED:20241116T021042Z
UID:99837-1732204800-1732210200@shiftkeylabs.ca
SUMMARY:Industry Showcase: Nova Scotia Power
DESCRIPTION:Join us on Thursday\, November 21st\, from 4:00 to 5:30 PM for an insightful Industry Showcase event with Nova Scotia Power. This session is part of Dalhousie University’s Industry Showcases\, offering you the opportunity to connect with professionals and explore career opportunities in cybersecurity. \nAbout the session: \nThis event features Halim Abou-Dib\, Enterprise Cyber Security Operations Lead at Nova Scotia Power. With over 17 years of experience in education and professional roles in cybersecurity and telecommunications\, Halim brings a wealth of knowledge to the table. Discover how Nova Scotia Power navigates the complexities of cybersecurity operations and learn how you can prepare for a thriving career in this dynamic field. \nKey takeaways from the session: \n\nExplore career opportunities available with Nova Scotia Power.\nGain insights into the company’s cybersecurity operations and how they tackle modern challenges.\nReceive practical advice from a seasoned cybersecurity professional on breaking into the field.\nLearn strategies for building your skillset and standing out in the cybersecurity job market.\n\nAbout the Speaker: \nHalim Abou-Dib joined Nova Scotia Power in 2022 as the Enterprise Cyber Security Operations Lead. Before this role\, he accumulated over 17 years of experience\, including teaching at a Canadian post-secondary institution in Qatar and later at NSCC in Nova Scotia. In these roles\, Halim contributed to department leadership\, strategic planning\, and industry collaboration\, with a strong focus on cybersecurity. His practical expertise extends to telecommunications in Halifax\, Nova Scotia\, where he further honed his knowledge of cybersecurity frameworks and trends. Halim’s commitment to continual learning and adaptation has kept him at the forefront of this ever-evolving field. \nLocation: \nRoom 430\, Slonim Conference Room\nGoldberg Computer Science Building\, 4th floor\n6050 University Avenue\,\nHalifax\, NS\,\nB3H 4R2 \nRegister Here
URL:https://shiftkeylabs.ca/event/industry-showcase-ns-power
LOCATION:Goldberg Computer Science Building\, 6050 University Avenue\, Halifax\, Nova Scotia\, B3H 1W5\, Canada
CATEGORIES:Tech Talks
ATTACH;FMTTYPE=image/png:https://shiftkeylabs.ca/wp-content/uploads/2024/11/Industry-Showcase.png
END:VEVENT
END:VCALENDAR