BEGIN:VCALENDAR
VERSION:2.0
PRODID:-//ShiftKey Labs - ECPv6.3.5//NONSGML v1.0//EN
CALSCALE:GREGORIAN
METHOD:PUBLISH
X-WR-CALNAME:ShiftKey Labs
X-ORIGINAL-URL:https://shiftkeylabs.ca
X-WR-CALDESC:Events for ShiftKey Labs
REFRESH-INTERVAL;VALUE=DURATION:PT1H
X-Robots-Tag:noindex
X-PUBLISHED-TTL:PT1H
BEGIN:VTIMEZONE
TZID:America/Halifax
BEGIN:DAYLIGHT
TZOFFSETFROM:-0400
TZOFFSETTO:-0300
TZNAME:ADT
DTSTART:20240310T060000
END:DAYLIGHT
BEGIN:STANDARD
TZOFFSETFROM:-0300
TZOFFSETTO:-0400
TZNAME:AST
DTSTART:20241103T050000
END:STANDARD
END:VTIMEZONE
BEGIN:VEVENT
DTSTART;VALUE=DATE:20241101
DTEND;VALUE=DATE:20241104
DTSTAMP:20260422T105136
CREATED:20241016T011704Z
LAST-MODIFIED:20241031T064435Z
UID:99684-1730419200-1730678399@shiftkeylabs.ca
SUMMARY:IBM watsonx Education Challenge
DESCRIPTION:Join us for the IBM watsonx Education Challenge hosted by ShiftKey Labs in collaboration with IBM\, where innovation meets education. This low-code/no-code event invites participants to tackle real-world challenges based on the United Nation’s Sustainability Goal #4: Quality Education. From empowering educators to build customized learning experiences using no-code platforms\, enhancing student engagement and well-being in university life and bridging the digital divide to provide equitable access to quality education in underserved and remote communities. Whether you’re a student\, educator or industry professional\, come together to create impactful\, scalable solutions that revolutionize how we learn and teach\, fostering a more inclusive and supportive educational environment for all. The Quality Education Challenge will give participants unique access to IBM’s new AI tools. \n\nIBM’s Watsonx is an advanced data and AI platform designed to help businesses harness the transformative potential of AI. With a robust suite of tools and capabilities\, Watsonx empowers businesses to develop\, deploy\, and manage AI solutions that drive meaningful insights and enhancements. However\, its capabilities extend far beyond this\, making it an ideal solution for addressing complex challenges in various fields. Its scalability and adaptability enable it to be applied in diverse contexts\, making it a valuable tool for organizations looking to optimize their operations and better serve their purpose. As AI tools continue to advance\, Watsonx is well-positioned to drive innovation and address a wide range of business and social concerns. \n\nThe Quality Education Challenge is open to all fields and levels of expertise. Participants will have access to exclusive workshops leading up to the event to help you prepare. Register today to test your low-code/no-code skills\, make valuable industry connections\, and win cool prizes! \nRead the schedule below and find out how to register! \n\n\n📆 Date: Nov 1-3\, 2024 ⏰ Location: Goldberg Computer Science Building \n💰 Cost: FREE!\n📌 Registration: https://bit.ly/shiftkey-events \n 
URL:https://shiftkeylabs.ca/event/ibm-watsonx-education-challenge
LOCATION:Goldberg Computer Science Building\, 6050 University Avenue\, Halifax\, Nova Scotia\, B3H 1W5\, Canada
CATEGORIES:Hackathon
ATTACH;FMTTYPE=image/png:https://shiftkeylabs.ca/wp-content/uploads/2024/10/Hackathons.png
END:VEVENT
END:VCALENDAR