BEGIN:VCALENDAR
VERSION:2.0
PRODID:-//ShiftKey Labs - ECPv6.3.5//NONSGML v1.0//EN
CALSCALE:GREGORIAN
METHOD:PUBLISH
X-ORIGINAL-URL:https://shiftkeylabs.ca
X-WR-CALDESC:Events for ShiftKey Labs
REFRESH-INTERVAL;VALUE=DURATION:PT1H
X-Robots-Tag:noindex
X-PUBLISHED-TTL:PT1H
BEGIN:VTIMEZONE
TZID:America/Halifax
BEGIN:DAYLIGHT
TZOFFSETFROM:-0400
TZOFFSETTO:-0300
TZNAME:ADT
DTSTART:20240310T060000
END:DAYLIGHT
BEGIN:STANDARD
TZOFFSETFROM:-0300
TZOFFSETTO:-0400
TZNAME:AST
DTSTART:20241103T050000
END:STANDARD
END:VTIMEZONE
BEGIN:VEVENT
DTSTART;TZID=America/Halifax:20241029T180000
DTEND;TZID=America/Halifax:20241029T190000
DTSTAMP:20260422T105302
CREATED:20241019T031220Z
LAST-MODIFIED:20241019T032742Z
UID:99731-1730224800-1730228400@shiftkeylabs.ca
SUMMARY:IBM watsonx Education Challenge: AI Ethics Workshop
DESCRIPTION:Join us for an engaging workshop that explores the ethical dimensions of AI ahead of our upcoming watsonx challenge. This interactive session will provide participants with essential insights into the ethical considerations that shape AI development and deployment. We will dive into key concepts and real-world case studies\, learn best practices and guidelines\, and hear from industry experts on navigating the complex landscape of AI. Prepare to build your projects responsibly and make a positive impact with your work! \n\n\n📆 Date: October 29th 2024 \n⏰ Time: 6-7pm\n📌 Location: Virtual\n💰 Cost: FREE!\n📌 Registration: https://bit.ly/shiftkey-events \n 
URL:https://shiftkeylabs.ca/event/ibm-watsonx-education-challenge-ai-ethics-workshop
LOCATION:Virtual
CATEGORIES:Skills Development
ATTACH;FMTTYPE=image/png:https://shiftkeylabs.ca/wp-content/uploads/2024/10/IBM-Workshops.png
END:VEVENT
END:VCALENDAR