BEGIN:VCALENDAR
VERSION:2.0
PRODID:-//ShiftKey Labs - ECPv6.3.5//NONSGML v1.0//EN
CALSCALE:GREGORIAN
METHOD:PUBLISH
X-ORIGINAL-URL:https://shiftkeylabs.ca
X-WR-CALDESC:Events for ShiftKey Labs
REFRESH-INTERVAL;VALUE=DURATION:PT1H
X-Robots-Tag:noindex
X-PUBLISHED-TTL:PT1H
BEGIN:VTIMEZONE
TZID:America/Halifax
BEGIN:DAYLIGHT
TZOFFSETFROM:-0400
TZOFFSETTO:-0300
TZNAME:ADT
DTSTART:20240310T060000
END:DAYLIGHT
BEGIN:STANDARD
TZOFFSETFROM:-0300
TZOFFSETTO:-0400
TZNAME:AST
DTSTART:20241103T050000
END:STANDARD
END:VTIMEZONE
BEGIN:VEVENT
DTSTART;TZID=America/Halifax:20241024T180000
DTEND;TZID=America/Halifax:20241024T190000
DTSTAMP:20260422T122622
CREATED:20241019T031053Z
LAST-MODIFIED:20241019T032658Z
UID:99729-1729792800-1729796400@shiftkeylabs.ca
SUMMARY:IBM watsonx Education Challenge: Introduction to Generative AI Workshop
DESCRIPTION:This workshop is designed to provide a comprehensive introduction to Generative AI (GenAI) for students who are interested in exploring the potential of this cutting-edge technology ahead of the watsonx Challenge. The workshop will cover the fundamental concepts\, applications\, and techniques related to GenAI\, as well as hands-on exercises to help participants gain practical experience with GenAI models. By the end of the workshop\, participants will have a solid understanding of GenAI fundamentals and the skills needed to build and deploy their own models\, along with new connections and insights. This workshop is open to students of all background and skill levels\, no previous experience with programming is necessary to participate. \n\n\n📆 Date: October 24th 2024 \n⏰ Time: 6-7pm\n📌 Location: Virtual\n💰 Cost: FREE!\n📌 Registration: https://bit.ly/shiftkey-events \n 
URL:https://shiftkeylabs.ca/event/ibm-watsonx-education-challenge-introduction-to-generative-ai
LOCATION:Virtual
CATEGORIES:Skills Development
ATTACH;FMTTYPE=image/png:https://shiftkeylabs.ca/wp-content/uploads/2024/10/IBM-Workshops.png
END:VEVENT
END:VCALENDAR