BEGIN:VCALENDAR
VERSION:2.0
PRODID:-//ShiftKey Labs - ECPv6.3.5//NONSGML v1.0//EN
CALSCALE:GREGORIAN
METHOD:PUBLISH
X-ORIGINAL-URL:https://shiftkeylabs.ca
X-WR-CALDESC:Events for ShiftKey Labs
REFRESH-INTERVAL;VALUE=DURATION:PT1H
X-Robots-Tag:noindex
X-PUBLISHED-TTL:PT1H
BEGIN:VTIMEZONE
TZID:Asia/Kolkata
BEGIN:STANDARD
TZOFFSETFROM:+0530
TZOFFSETTO:+0530
TZNAME:IST
DTSTART:20240101T000000
END:STANDARD
END:VTIMEZONE
BEGIN:VEVENT
DTSTART;VALUE=DATE:20240916
DTEND;VALUE=DATE:20240922
DTSTAMP:20260422T135400
CREATED:20240621T231552Z
LAST-MODIFIED:20240910T033229Z
UID:99230-1726444800-1726963199@shiftkeylabs.ca
SUMMARY:Innovation Week: Tech Innovation Showcase
DESCRIPTION:Innovation Showcase by ShiftKey Labs & Faculty of Computer Science \nThe Tech Innovation Showcase\, hosted by ShiftKey Labs and the Faculty of Computer Science at Dalhousie University\, celebrates the ingenuity and creativity of students and researchers in the field of computer science. From leveraging AI to designing ground-breaking apps\, the showcase highlights exciting projects\, innovative solutions\, and cutting-edge research. \nStop by the Atrium of the Goldberg Computer Science Building to learn more about these projects any time within Innovation Week! \n  \nDate: September 16-21\, 2024\nLocation: Atrium in the Goldberg Computer Science Building (6050 University Avenue)\n\n \nLearn more about Innovation Week: https://dalinnovates.ca/news/save-the-date-dal-innovation-week/ 
URL:https://shiftkeylabs.ca/event/tech-innovation-showcase
LOCATION:Goldberg Computer Science Building\, 6050 University Avenue\, Halifax\, Nova Scotia\, B3H 1W5\, Canada
END:VEVENT
END:VCALENDAR