BEGIN:VCALENDAR
VERSION:2.0
PRODID:-//ShiftKey Labs - ECPv6.3.5//NONSGML v1.0//EN
CALSCALE:GREGORIAN
METHOD:PUBLISH
X-WR-CALNAME:ShiftKey Labs
X-ORIGINAL-URL:https://shiftkeylabs.ca
X-WR-CALDESC:Events for ShiftKey Labs
REFRESH-INTERVAL;VALUE=DURATION:PT1H
X-Robots-Tag:noindex
X-PUBLISHED-TTL:PT1H
BEGIN:VTIMEZONE
TZID:America/Halifax
BEGIN:DAYLIGHT
TZOFFSETFROM:-0400
TZOFFSETTO:-0300
TZNAME:ADT
DTSTART:20240310T060000
END:DAYLIGHT
BEGIN:STANDARD
TZOFFSETFROM:-0300
TZOFFSETTO:-0400
TZNAME:AST
DTSTART:20241103T050000
END:STANDARD
END:VTIMEZONE
BEGIN:VEVENT
DTSTART;TZID=America/Halifax:20240911T183000
DTEND;TZID=America/Halifax:20240911T200000
DTSTAMP:20260422T135200
CREATED:20240816T223056Z
LAST-MODIFIED:20240823T030535Z
UID:99478-1726079400-1726084800@shiftkeylabs.ca
SUMMARY:ShiftKey Academy Up: Generative AI (2/4)
DESCRIPTION:Excited to share that we’re launching a new certification program in Generative AI this September! Led by Vansh Sood\, this program offers you the chance to learn the basics of Generative AI and get hands-on experience building your own AI tools. \nThis free certification program is offered through ShiftKey Academy Up\, generously supported by Cognizant. \n📅 Dates: September 4\, 11\, 18\, 25\n⏰ Time: 6:30 PM – 8:00 PM\n📌 Location: Goldberg Computer Science Building\, Room 127\n💰 Cost: FREE! \nRegister now: https://lnkd.in/grz92HWH \nNote: Attendance is required for all sessions to earn certification\, as well as successful completion of assessment. \n \n 
URL:https://shiftkeylabs.ca/event/shiftkey-academy-up-genai-2
LOCATION:Goldberg Computer Science Building\, 6050 University Avenue\, Halifax\, Nova Scotia\, B3H 1W5\, Canada
CATEGORIES:Certification,Skills Development
ATTACH;FMTTYPE=image/jpeg:https://shiftkeylabs.ca/wp-content/uploads/2024/08/ShiftKey-Academy-UP-React-Native-Certification-2.jpg
END:VEVENT
END:VCALENDAR