BEGIN:VCALENDAR
VERSION:2.0
PRODID:-//ShiftKey Labs - ECPv6.3.5//NONSGML v1.0//EN
CALSCALE:GREGORIAN
METHOD:PUBLISH
X-WR-CALNAME:ShiftKey Labs
X-ORIGINAL-URL:https://shiftkeylabs.ca
X-WR-CALDESC:Events for ShiftKey Labs
REFRESH-INTERVAL;VALUE=DURATION:PT1H
X-Robots-Tag:noindex
X-PUBLISHED-TTL:PT1H
BEGIN:VTIMEZONE
TZID:America/Halifax
BEGIN:DAYLIGHT
TZOFFSETFROM:-0400
TZOFFSETTO:-0300
TZNAME:ADT
DTSTART:20240310T060000
END:DAYLIGHT
BEGIN:STANDARD
TZOFFSETFROM:-0300
TZOFFSETTO:-0400
TZNAME:AST
DTSTART:20241103T050000
END:STANDARD
END:VTIMEZONE
BEGIN:VEVENT
DTSTART;TZID=America/Halifax:20240904T173000
DTEND;TZID=America/Halifax:20240904T190000
DTSTAMP:20260422T135203
CREATED:20240816T230504Z
LAST-MODIFIED:20240816T232128Z
UID:99493-1725471000-1725476400@shiftkeylabs.ca
SUMMARY:FCS Orientation: Launching ShiftKey Lounge
DESCRIPTION:This fall\, the ShiftKey Lounge is back! Join us during CODEchella Orientation week to learn about all the offerings to come from the revamped six-week series designed specifically for first-year Dal CS students. Each week\, we’ll dive into exciting and relevant tech topics\, providing a platform for engaging dialogue and exploration. \nWhether you’re curious about Artificial Intelligence\, Cyber Security\, Data Science\, Gaming\, UX Design\, or Development\, there’s something for everyone. Each session will be facilitated by a dynamic leader\, including upper-year students\, grad students\, faculty members\, and industry partners\, ensuring a rich and diverse learning experience. \nDate: September 4\, 2024\nTime: 5:30PM-7:00PM\nLocation: Goldberg Atrium\nAudience: Welcoming all first-year students (registration not required)
URL:https://shiftkeylabs.ca/event/fcs-orientation-launching-shiftkey-lounge
CATEGORIES:Info Session
ATTACH;FMTTYPE=image/png:https://shiftkeylabs.ca/wp-content/uploads/2024/08/CODEchella-Full-Week-Poster.png
END:VEVENT
BEGIN:VEVENT
DTSTART;TZID=America/Halifax:20240904T183000
DTEND;TZID=America/Halifax:20240904T200000
DTSTAMP:20260422T135203
CREATED:20240816T222949Z
LAST-MODIFIED:20240823T030549Z
UID:99475-1725474600-1725480000@shiftkeylabs.ca
SUMMARY:ShiftKey Academy Up: Generative AI (1/4)
DESCRIPTION:Excited to share that we’re launching a new certification program in Generative AI this September! Led by Vansh Sood\, this program offers you the chance to learn the basics of Generative AI and get hands-on experience building your own AI tools. \nThis free certification program is offered through ShiftKey Academy Up\, generously supported by Cognizant. \n📅 Dates: September 4\, 11\, 18\, 25\n⏰ Time: 6:30 PM – 8:00 PM\n📌 Location: Goldberg Computer Science Building\, Room 127\n💰 Cost: FREE! \nRegister now: https://lnkd.in/grz92HWH \nNote: Attendance is required for all sessions to earn certification\, as well as successful completion of assessment. \n \n 
URL:https://shiftkeylabs.ca/event/shiftkey-academy-up-genai-1
LOCATION:Goldberg Computer Science Building\, 6050 University Avenue\, Halifax\, Nova Scotia\, B3H 1W5\, Canada
CATEGORIES:Certification,Skills Development
ATTACH;FMTTYPE=image/jpeg:https://shiftkeylabs.ca/wp-content/uploads/2024/08/ShiftKey-Academy-UP-React-Native-Certification-2.jpg
END:VEVENT
BEGIN:VEVENT
DTSTART;TZID=America/Halifax:20240904T190000
DTEND;TZID=America/Halifax:20240904T200000
DTSTAMP:20260422T135203
CREATED:20240816T232740Z
LAST-MODIFIED:20240816T232740Z
UID:99496-1725476400-1725480000@shiftkeylabs.ca
SUMMARY:FCS Orientation: Intro to Git
DESCRIPTION:Join us for an interactive workshop on mastering GIT\, hosted by peers from ShiftKey Labs! Designed for students of all levels\, this event will teach you the fundamentals of version control using GIT\, a crucial tool for collaborative coding projects. Our knowledgeable peers will guide you through hands-on exercises\, demonstrating key commands and best practices. By the end of the session\, you’ll be equipped with the skills to efficiently manage your code and collaborate seamlessly with others. Don’t miss this opportunity to enhance your technical toolkit and learn from experienced mentors in a supportive environment! \nDate: September 4\, 2024\nTime: 7:00PM-8:00PM\nLocation: Goldberg Computer Science Building\, Room 127\nAudience: Welcoming all first-year students (registration not required)
URL:https://shiftkeylabs.ca/event/fcs-orientation-git
CATEGORIES:Info Session,Skills Development
ATTACH;FMTTYPE=image/png:https://shiftkeylabs.ca/wp-content/uploads/2024/08/CODEchella-GIT-Into-it-Yuh.png
END:VEVENT
END:VCALENDAR