BEGIN:VCALENDAR
VERSION:2.0
PRODID:-//ShiftKey Labs - ECPv6.3.5//NONSGML v1.0//EN
CALSCALE:GREGORIAN
METHOD:PUBLISH
X-WR-CALNAME:ShiftKey Labs
X-ORIGINAL-URL:https://shiftkeylabs.ca
X-WR-CALDESC:Events for ShiftKey Labs
REFRESH-INTERVAL;VALUE=DURATION:PT1H
X-Robots-Tag:noindex
X-PUBLISHED-TTL:PT1H
BEGIN:VTIMEZONE
TZID:Asia/Kolkata
BEGIN:STANDARD
TZOFFSETFROM:+0530
TZOFFSETTO:+0530
TZNAME:IST
DTSTART:20240101T000000
END:STANDARD
END:VTIMEZONE
BEGIN:VEVENT
DTSTART;VALUE=DATE:20240722
DTEND;VALUE=DATE:20240729
DTSTAMP:20260422T175854
CREATED:20240522T023843Z
LAST-MODIFIED:20240710T000039Z
UID:99065-1721606400-1722211199@shiftkeylabs.ca
SUMMARY:Tech Innovation Bootcamp
DESCRIPTION:The Technology Innovation Bootcamp is an immersive week-long event designed to bridge the gap between academic learning and real-world application. This exclusive bootcamp organized by ShiftKey Labs in cooperation with Dal Innovates and the Arthur L. Irving Entrepreneurship Centre enables students to develop their entrepreneurial\, business\, and technical mindsets through hands-on experience.\nParticipants are divided into student-led teams each tasked with solving real-life technical problems or developing new technical solutions for assigned clients. Within each team\, participants take on specific roles based on their interests and skills\, fostering a dynamic and collaborative environment.\nWorking with real clients allows participants to build skills such as communication\, business analysis\, and technical expertise\, while continuously getting feedback from experienced clients and a technical team supporting the technical solution. \n\nDates: July 21-27 (\nTimes: Variable (see full schedule coming soon)\n\nLocation: SH212\, Arthur L. Irving Entrepreneurship Centre\nRegistration: https://bit.ly/shiftkey-events
URL:https://shiftkeylabs.ca/event/tech-innovation-bootcamp
CATEGORIES:Skills Development
ATTACH;FMTTYPE=image/png:https://shiftkeylabs.ca/wp-content/uploads/2024/02/Shiftkey-Labs-Logo-01-e1487284025704-1200x515-1-1024x439-1.png
END:VEVENT
BEGIN:VEVENT
DTSTART;VALUE=DATE:20240724
DTEND;VALUE=DATE:20240725
DTSTAMP:20260422T175854
CREATED:20240628T010043Z
LAST-MODIFIED:20240628T010043Z
UID:99243-1721779200-1721865599@shiftkeylabs.ca
SUMMARY:SuperNOVA Discovery Days
DESCRIPTION:ShiftKey is looking forward to\, once again\, be involved with the SuperNOVA Discovery Days! Discovery Days are a chance for SuperNOVA STEM camps to explore Dalhousie University\, and they visit ShiftKey to get a taste for Computer Science in a university setting. \nThese sessions are only open to kids already enrolled in the appropriate SuperNOVA summer camp. To learn more about SuperNOVA\, check out https://supernova.dal.ca/
URL:https://shiftkeylabs.ca/event/supernova-discovery-days-4
CATEGORIES:Under 18
ATTACH;FMTTYPE=image/png:https://shiftkeylabs.ca/wp-content/uploads/2023/10/SuperNova-Logo-POS-FULL.png
END:VEVENT
END:VCALENDAR