BEGIN:VCALENDAR
VERSION:2.0
PRODID:-//ShiftKey Labs - ECPv6.3.5//NONSGML v1.0//EN
CALSCALE:GREGORIAN
METHOD:PUBLISH
X-WR-CALNAME:ShiftKey Labs
X-ORIGINAL-URL:https://shiftkeylabs.ca
X-WR-CALDESC:Events for ShiftKey Labs
REFRESH-INTERVAL;VALUE=DURATION:PT1H
X-Robots-Tag:noindex
X-PUBLISHED-TTL:PT1H
BEGIN:VTIMEZONE
TZID:Asia/Kolkata
BEGIN:STANDARD
TZOFFSETFROM:+0530
TZOFFSETTO:+0530
TZNAME:IST
DTSTART:20240101T000000
END:STANDARD
END:VTIMEZONE
BEGIN:VEVENT
DTSTART;TZID=Asia/Kolkata:20240708T150000
DTEND;TZID=Asia/Kolkata:20240708T160000
DTSTAMP:20260422T191327
CREATED:20240705T034848Z
LAST-MODIFIED:20240705T034957Z
UID:99291-1720450800-1720454400@shiftkeylabs.ca
SUMMARY:Introduction to LeetCode
DESCRIPTION:In computer science especially software engineering\, algorithmic problem-solving is one of the important factors that lead to success.  LeetCode stands as a premier platform where the programmer can sharpen their skills through a diverse set of categories and exercises.  This session aims to explore competitive programming and LeetCode itself addressing questions such as what is competitive programming\, why LeetCode is valuable for programmers and how to use its resources effectively.  In addition\, the session will go through strategies to solve three distinct problems from LeetCodeʼs Easy\, Medium and Hard difficulty levels.  This session aims to showcase where theory meets the practical application of algorithms and data structures.  Attendees will have a solid understanding of how LeetCode can improve their algorithmic proficiency. \nHosted by the Faculty of Computer Science\, Masters of Digital Innovation. Presented by Hoang Le. \nDate: July 8\, 2024\nTime: 3:00PM-4:00PM\nLocation: Goldberg Computer Science Building\, Room 143\nRegistration: https://bit.ly/shiftkey-events \n 
URL:https://shiftkeylabs.ca/event/introduction-to-leetcode
LOCATION:Goldberg Computer Science Building\, 6050 University Avenue\, Halifax\, Nova Scotia\, B3H 1W5\, Canada
ATTACH;FMTTYPE=image/png:https://shiftkeylabs.ca/wp-content/uploads/2024/02/Shiftkey-Labs-Logo-01-e1487284025704-1200x515-1-1024x439-1.png
END:VEVENT
END:VCALENDAR