BEGIN:VCALENDAR
VERSION:2.0
PRODID:-//ShiftKey Labs - ECPv6.3.5//NONSGML v1.0//EN
CALSCALE:GREGORIAN
METHOD:PUBLISH
X-WR-CALNAME:ShiftKey Labs
X-ORIGINAL-URL:https://shiftkeylabs.ca
X-WR-CALDESC:Events for ShiftKey Labs
REFRESH-INTERVAL;VALUE=DURATION:PT1H
X-Robots-Tag:noindex
X-PUBLISHED-TTL:PT1H
BEGIN:VTIMEZONE
TZID:Asia/Kolkata
BEGIN:STANDARD
TZOFFSETFROM:+0530
TZOFFSETTO:+0530
TZNAME:IST
DTSTART:20240101T000000
END:STANDARD
END:VTIMEZONE
BEGIN:VEVENT
DTSTART;VALUE=DATE:20240610
DTEND;VALUE=DATE:20240624
DTSTAMP:20260422T191318
CREATED:20240522T023434Z
LAST-MODIFIED:20240528T031440Z
UID:99061-1717977600-1719187199@shiftkeylabs.ca
SUMMARY:Ocean of Data Challenge: Halting the Harbour
DESCRIPTION:Post-secondary students across Atlantic Canada\, test your skills in the Ocean of Data Challenge! DeepSense\,  The PIER\, ShiftKey Labs and COVE are thrilled to be hosting the 9th Ocean of Data Challenge: Halting the Harbour to explore how we can illuminate the significant role of the Halifax Harbour in many of our day to day lives. On Monday\, June 10th at 6 pm ADT\, join us for a FREE online webinar where a panel of experts in the ocean industry will introduce you to current topics and challenges affecting the Halifax Harbour. With three challenge streams to choose from\, you can find creative ways to analyze and share vessel\, ecosystem\, and community data to make it accessible to the general public. Don’t miss this opportunity to make a difference and win cash prizes!  \nKickoff Date: June 10\, 2024\nKickoff Time: 6:00PM ATD\nSubmission Deadline: June 23\, 2024 at 11:59PM\nLocation: Virtual (link will be sent to registrants)\nRegistration: https://bit.ly/OOD-DeepSense
URL:https://shiftkeylabs.ca/event/ocean-of-data-challenge-halting-the-harbour
CATEGORIES:Hackathon,Virtual
ATTACH;FMTTYPE=image/png:https://shiftkeylabs.ca/wp-content/uploads/2024/05/Post-1.png
END:VEVENT
BEGIN:VEVENT
DTSTART;TZID=Asia/Kolkata:20240613T190000
DTEND;TZID=Asia/Kolkata:20240613T210000
DTSTAMP:20260422T191318
CREATED:20240604T011045Z
LAST-MODIFIED:20240606T223428Z
UID:99149-1718305200-1718312400@shiftkeylabs.ca
SUMMARY:LeetCode Jam
DESCRIPTION:Get ready for the LeetCode Jam\, hosted by ShiftKey and the Faculty of Computer Science! It’s your chance to tackle challenging LeetCode problems\, sharpen your coding skills\, and compete for cool prizes. Whether you’re a coding pro or just getting started\, this event is perfect for learning and connecting with fellow coders. \nThe event will start with an introduction to Technical Interviews and how LeetCode can help you\, presented by Kewoba Carter\, Manager of Career Development in the Faculty of Computer Science.\nFollowing the introduction\, participants will dive into the LeetCode Jam! \nDate: June 13\, 2024\nTime: 7:00PM-9:00PM\nCost: FREE!\nLocation: Goldberg Computer Science Building\nRegistration: https://airtable.com/appcCupd2hOR70F1N/shruvswXb2JLJ4b96 \nPlease note: bring your own laptops with you. You can use any programming language\, but we recommend Python.
URL:https://shiftkeylabs.ca/event/leetcode-jam
LOCATION:Goldberg Computer Science Building\, 6050 University Avenue\, Halifax\, Nova Scotia\, B3H 1W5\, Canada
CATEGORIES:Hackathon,Info Session,Skills Development
ATTACH;FMTTYPE=image/jpeg:https://shiftkeylabs.ca/wp-content/uploads/2024/06/Leetcode-jam.jpg
END:VEVENT
END:VCALENDAR