BEGIN:VCALENDAR
VERSION:2.0
PRODID:-//ShiftKey Labs - ECPv6.3.5//NONSGML v1.0//EN
CALSCALE:GREGORIAN
METHOD:PUBLISH
X-WR-CALNAME:ShiftKey Labs
X-ORIGINAL-URL:https://shiftkeylabs.ca
X-WR-CALDESC:Events for ShiftKey Labs
REFRESH-INTERVAL;VALUE=DURATION:PT1H
X-Robots-Tag:noindex
X-PUBLISHED-TTL:PT1H
BEGIN:VTIMEZONE
TZID:America/Halifax
BEGIN:DAYLIGHT
TZOFFSETFROM:-0400
TZOFFSETTO:-0300
TZNAME:ADT
DTSTART:20240310T060000
END:DAYLIGHT
BEGIN:STANDARD
TZOFFSETFROM:-0300
TZOFFSETTO:-0400
TZNAME:AST
DTSTART:20241103T050000
END:STANDARD
TZID:Asia/Kolkata
BEGIN:STANDARD
TZOFFSETFROM:+0530
TZOFFSETTO:+0530
TZNAME:IST
DTSTART:20240101T000000
END:STANDARD
END:VTIMEZONE
BEGIN:VEVENT
DTSTART;TZID=America/Halifax:20240124T173000
DTEND;TZID=America/Halifax:20240124T193000
DTSTAMP:20260423T082825
CREATED:20240112T224027Z
LAST-MODIFIED:20240112T224027Z
UID:97497-1706117400-1706124600@shiftkeylabs.ca
SUMMARY:STEM Connector: Networking & Headshots
DESCRIPTION:Looking to practice your networking skills? Do you want a new headshot for your LinkedIn profile? Join us for our first STEM Connector event of the year! We’ll be hosting a STEM connector Social on Wednesday January 24th from 5:30-7:30 in the Atrium of the Goldberg Computer Science Building. We’ll be joined by a photographer who will be taking professional headshots for your LinkedIn profile\, along with many other STEM Connector members for you to network with. This is a great opportunity for you to connect with your peers and brush up on your networking skills before you start thinking about summer jobs and internships! Join us as we kick off the semester with snacks\, refreshments\, professional headshots\, and peer-to-peer networking! \nRegister here: https://www.tickettailor.com/events/stemconnector/1116812
URL:https://shiftkeylabs.ca/event/stem-connector-networking-headshots
END:VEVENT
BEGIN:VEVENT
DTSTART;TZID=Asia/Kolkata:20240124T180000
DTEND;TZID=Asia/Kolkata:20240124T193000
DTSTAMP:20260423T082825
CREATED:20231230T023859Z
LAST-MODIFIED:20240116T013738Z
UID:97143-1706119200-1706124600@shiftkeylabs.ca
SUMMARY:GGJ Next Prep: Advanced Scratch
DESCRIPTION:Advanced Scratch – Game Jam NEXT Prep!\nSuperNOVA will be providing four optional workshops to help you get prepared for GGJ Next. Participants can attend in-person at the Goldberg Computer Science Building at Dalhousie University or online! They are free to anyone signed up for the Global Game Jam NEXT on January 27\, and only require access to a computer. \nTo register for Game Jam NEXT\, simply choose your location!\nHalifax: https://campscui.active.com/orgs/SuperNOVAatDalhousieUniversityCAD?orglink=camps-registration\nNew Glasgow: https://www.eventbrite.ca/e/game-jam-next-at-ignite-northern-tickets-773812412757\nYarmouth: https://www.eventbrite.ca/e/game-jam-next-at-ignite-southern-yarmouth-tickets-777759649047
URL:https://shiftkeylabs.ca/event/ggj-next-prep-advanced-scratch
ATTACH;FMTTYPE=image/jpeg:https://shiftkeylabs.ca/wp-content/uploads/2023/12/Game-Jam-Next.jpg
END:VEVENT
BEGIN:VEVENT
DTSTART;TZID=Asia/Kolkata:20240124T193000
DTEND;TZID=Asia/Kolkata:20240124T203000
DTSTAMP:20260423T082825
CREATED:20240117T230620Z
LAST-MODIFIED:20240117T230620Z
UID:97656-1706124600-1706128200@shiftkeylabs.ca
SUMMARY:GGJ Workshop: Intro to 2D Game Art with Espen Mejia-Ortega
DESCRIPTION:To help people prepare for the upcoming Global Game Jam 2024\, ShiftKey Labs\, HCI4Good and several partners are hosting workshops covering some key topics. These workshops will be available to everyone registered for the Global Game Jam. There is no need to register for the workshops individually\, although attendance will be taken. \nIntro to 2D Game Art with Espen Mejia-Ortega\nJanuary 24\, 2024\n7:30-8:30PM\nHybrid; Room 1108 of the Mona Campbell Building (Teams Link will be made available to participants) \nAn introduction to making game art. From characters to collectables\, we’ll be going over the fundamentals to making clear and cohesive artistic designs. \nRegister for the Global Game Jam today!: https://www.eventbrite.ca/e/global-game-jam-nova-scotia-2024-tickets-773796424937  \n 
URL:https://shiftkeylabs.ca/event/ggj-workshop-intro-to-2d-game-art-with-espen-mejia-ortega
LOCATION:Mona Campbell Building\, 1459 Lemarchant Street\, Halifax\, Nova Scotia\, B3H 3P8
ATTACH;FMTTYPE=image/jpeg:https://shiftkeylabs.ca/wp-content/uploads/2024/01/bf6ff7f9-e257-4f56-bffb-f3ca705b105b_720.jpg
END:VEVENT
END:VCALENDAR