BEGIN:VCALENDAR
VERSION:2.0
PRODID:-//ShiftKey Labs - ECPv6.3.5//NONSGML v1.0//EN
CALSCALE:GREGORIAN
METHOD:PUBLISH
X-WR-CALNAME:ShiftKey Labs
X-ORIGINAL-URL:https://shiftkeylabs.ca
X-WR-CALDESC:Events for ShiftKey Labs
REFRESH-INTERVAL;VALUE=DURATION:PT1H
X-Robots-Tag:noindex
X-PUBLISHED-TTL:PT1H
BEGIN:VTIMEZONE
TZID:Asia/Kolkata
BEGIN:STANDARD
TZOFFSETFROM:+0530
TZOFFSETTO:+0530
TZNAME:IST
DTSTART:20240101T000000
END:STANDARD
END:VTIMEZONE
BEGIN:VEVENT
DTSTART;TZID=Asia/Kolkata:20240122T140000
DTEND;TZID=Asia/Kolkata:20240122T150000
DTSTAMP:20260423T082831
CREATED:20240117T224709Z
LAST-MODIFIED:20240117T230336Z
UID:97642-1705932000-1705935600@shiftkeylabs.ca
SUMMARY:GGJ Workshop: Privacy in Games with Carla Heggie
DESCRIPTION:To help people prepare for the upcoming Global Game Jam 2024\, ShiftKey Labs\, HCI4Good and several partners are hosting workshops covering some key topics. These workshops will be available to everyone registered for the Global Game Jam. There is no need to register for the workshops individually\, although attendance will be taken. \nPrivacy in Games with Professor Carla Heggie\nJanuary 22\, 2024\n2:00PM-3:00PM\nIn Person; Room 211 of the Goldberg Computer Science Building  \nThis 1-hour workshop will give a high level overview of privacy issues to be aware of when designing games in the digital world. What are your responsibilities under the law? Do players have a right to privacy while gaming? How do you mitigate the risks of a potential privacy breach? Does it really matter? Professor Carla Heggie\, an instructor at the Faculty of Computer Science\, is a certified Information Access & Privacy Professional with many years in the field of privacy. Here is an opportunity to ask questions and clarify your understanding of privacy concerns in gaming. \nRegister for the Global Game Jam today!: https://www.eventbrite.ca/e/global-game-jam-nova-scotia-2024-tickets-773796424937 
URL:https://shiftkeylabs.ca/event/ggj-workshop-privacy-in-games-with-carla-heggie
LOCATION:Goldberg Computer Science Building\, 6050 University Avenue\, Halifax\, Nova Scotia\, B3H 1W5\, Canada
ATTACH;FMTTYPE=image/jpeg:https://shiftkeylabs.ca/wp-content/uploads/2024/01/bf6ff7f9-e257-4f56-bffb-f3ca705b105b_720.jpg
END:VEVENT
BEGIN:VEVENT
DTSTART;TZID=Asia/Kolkata:20240122T173000
DTEND;TZID=Asia/Kolkata:20240122T183000
DTSTAMP:20260423T082831
CREATED:20240117T225116Z
LAST-MODIFIED:20240117T230311Z
UID:97646-1705944600-1705948200@shiftkeylabs.ca
SUMMARY:GGJ Workshop: Hackathon Project Management with Michael Goudreault
DESCRIPTION:To help people prepare for the upcoming Global Game Jam 2024\, ShiftKey Labs\, HCI4Good and several partners are hosting workshops covering some key topics. These workshops will be available to everyone registered for the Global Game Jam. There is no need to register for the workshops individually\, although attendance will be taken. \nHackathon Project Management with Michael Goudreault\nJanuary 22\, 2024\n5:30PM-6:30PM\nHybrid; Room 134 of the Goldberg Computer Science Building (Teams Link will be made available to participants) \nJoin us as we run through the top 10 project management tips for a successful hackathon. We will explore how effective teamwork\, communication\, and planning can help you make the most of the event. \nRegister for the Global Game Jam today!: https://www.eventbrite.ca/e/global-game-jam-nova-scotia-2024-tickets-773796424937  \n  \n  \n 
URL:https://shiftkeylabs.ca/event/hackathon-project-management
LOCATION:Goldberg Computer Science Building\, 6050 University Avenue\, Halifax\, Nova Scotia\, B3H 1W5\, Canada
ATTACH;FMTTYPE=image/jpeg:https://shiftkeylabs.ca/wp-content/uploads/2024/01/bf6ff7f9-e257-4f56-bffb-f3ca705b105b_720.jpg
END:VEVENT
BEGIN:VEVENT
DTSTART;TZID=Asia/Kolkata:20240122T180000
DTEND;TZID=Asia/Kolkata:20240122T193000
DTSTAMP:20260423T082831
CREATED:20231230T023508Z
LAST-MODIFIED:20240116T013810Z
UID:97138-1705946400-1705951800@shiftkeylabs.ca
SUMMARY:GGJ Next Prep: Intro to Scratch
DESCRIPTION:Intro to Scratch – Game Jam NEXT Prep!\nSuperNOVA will be providing four optional workshops to help you get prepared for GGJ Next. Participants can attend in-person at the Goldberg Computer Science Building at Dalhousie University or online! They are free to anyone signed up for the Global Game Jam NEXT on January 27\, and only require access to a computer. \nTo register for Game Jam NEXT\, simply choose your location!\nHalifax: https://campscui.active.com/orgs/SuperNOVAatDalhousieUniversityCAD?orglink=camps-registration\nNew Glasgow: https://www.eventbrite.ca/e/game-jam-next-at-ignite-northern-tickets-773812412757\nYarmouth: https://www.eventbrite.ca/e/game-jam-next-at-ignite-southern-yarmouth-tickets-777759649047
URL:https://shiftkeylabs.ca/event/ggj-next-prep-intro-to-scratch
ATTACH;FMTTYPE=image/jpeg:https://shiftkeylabs.ca/wp-content/uploads/2023/12/Game-Jam-Next.jpg
END:VEVENT
END:VCALENDAR