BEGIN:VCALENDAR
VERSION:2.0
PRODID:-//ShiftKey Labs - ECPv6.3.5//NONSGML v1.0//EN
CALSCALE:GREGORIAN
METHOD:PUBLISH
X-WR-CALNAME:ShiftKey Labs
X-ORIGINAL-URL:https://shiftkeylabs.ca
X-WR-CALDESC:Events for ShiftKey Labs
REFRESH-INTERVAL;VALUE=DURATION:PT1H
X-Robots-Tag:noindex
X-PUBLISHED-TTL:PT1H
BEGIN:VTIMEZONE
TZID:UTC
BEGIN:STANDARD
TZOFFSETFROM:+0000
TZOFFSETTO:+0000
TZNAME:UTC
DTSTART:20230101T000000
END:STANDARD
END:VTIMEZONE
BEGIN:VEVENT
DTSTART;TZID=UTC:20231107T080000
DTEND;TZID=UTC:20231107T170000
DTSTAMP:20260423T202805
CREATED:20231018T185224Z
LAST-MODIFIED:20240202T043641Z
UID:94702-1699344000-1699376400@shiftkeylabs.ca
SUMMARY:We Talk Tech Panel with WiTS
DESCRIPTION:Details TBD!
URL:https://shiftkeylabs.ca/event/we-talk-tech-panel-with-wits
CATEGORIES:Tech Talks
ATTACH;FMTTYPE=image/webp:https://shiftkeylabs.ca/wp-content/uploads/2023/11/148-1-scaled.webp
END:VEVENT
END:VCALENDAR